BEGIN:VCALENDAR
VERSION:2.0
PRODID:-//ChamberMaster//Event Calendar 2.0//EN
METHOD:PUBLISH
X-PUBLISHED-TTL:P3D
REFRESH-INTERVAL:P3D
CALSCALE:GREGORIAN
BEGIN:VEVENT
DTSTART:20160730T160000Z
DTEND:20160730T210000Z
X-MICROSOFT-CDO-ALLDAYEVENT:FALSE
SUMMARY:Grants Pass Vendor Expo
DESCRIPTION:WERE BACK! We are having another Vendor Expo at the Fruitdale Grange again!\n\n\n\nWe are there monthly with over 25 different local vendors. We have distributors\, crafters\, small businesses. It is an absolute blast.\n\n\n\nSo come out this month from 9-2pm on Saturday July 30th and bring some friends to shop local and support your community.
X-ALT-DESC;FMTTYPE=text/html:<strong><u>WERE BACK</u>! We are having another Vendor Expo at the Fruitdale Grange again!<br />\n<br />\nWe are there monthly with over 25 different local vendors. We have distributors\, crafters\, small businesses. It is an absolute blast.<br />\n<br />\nSo come out this month from 9-2pm on Saturday July 30th and bring some friends to shop local and support your community.</strong>
LOCATION:Fruitdale Grange 1440 Parkdale Drive
UID:e.1818.17675
SEQUENCE:3
DTSTAMP:20260425T210204Z
URL:https://business.grantspasschamber.org/events/details/grants-pass-vendor-expo-07-30-2016-17675
END:VEVENT

END:VCALENDAR
