BEGIN:VCALENDAR
VERSION:2.0
PRODID:-//ChamberMaster//Event Calendar 2.0//EN
METHOD:PUBLISH
X-PUBLISHED-TTL:P3D
REFRESH-INTERVAL:P3D
CALSCALE:GREGORIAN
BEGIN:VEVENT
DTSTART:20180201T150000Z
DTEND:20180201T160000Z
X-MICROSOFT-CDO-ALLDAYEVENT:FALSE
SUMMARY:Grants Pass Veteran's Breakfast
DESCRIPTION:Come join other Veterans for breakfast once a month at Taprock Northwest Grill in Grants Pass.\n\n\n\nOn the agenda is: Bugle call\, Pledge of allegiance\, Prayer\, 15 min presentation and Socialization.\n\n\n\nToday's speakers are Ron Kohl and Sal Esquival with an Introduction to Breakfast. For the month of February\, March and April the breakfast will be free for all Veterans\, thanks to our generous sponsors. No RSVP needed\, just show up.\n\n\n\nDoors open at 6:30 am\, hope to see you there.
X-ALT-DESC;FMTTYPE=text/html:<br />\n<strong>Come join other Veterans for breakfast once a month at Taprock Northwest Grill in Grants Pass.<br />\n<br />\nOn the agenda is: Bugle call\, Pledge of allegiance\, Prayer\, 15 min presentation and Socialization.<br />\n<br />\nToday&rsquo\;s speakers are Ron Kohl and Sal Esquival with an Introduction to Breakfast. For the month of February\, March and April the breakfast will be free for all Veterans\, thanks to our generous sponsors. No RSVP needed\, just show up.<br />\n<br />\nDoors open at 6:30 am\, hope to see you there.</strong>
LOCATION:Taprock Northwest Grill 971 SE 6th Street Grants Pass\, Oregon 97526
UID:e.1818.25069
SEQUENCE:3
DTSTAMP:20260424T092214Z
URL:https://business.grantspasschamber.org/events/details/grants-pass-veteran-s-breakfast-25069
END:VEVENT

END:VCALENDAR
