BEGIN:VCALENDAR
VERSION:2.0
PRODID:-//ChamberMaster//Event Calendar 2.0//EN
METHOD:PUBLISH
X-PUBLISHED-TTL:P3D
REFRESH-INTERVAL:P3D
CALSCALE:GREGORIAN
BEGIN:VEVENT
DTSTART;VALUE=DATE:20161022
DTEND;VALUE=DATE:20161023
TRANSP:TRANSPARENT
X-MICROSOFT-CDO-ALLDAYEVENT:TRUE
SUMMARY:GraveYard Tour ~ Odd Fellows and Masonic Cemeteries
DESCRIPTION:Tours of the Odd Fellows and Masonic cemeteries\, with actors portraying the departed spirits of local historical figures.\n\n\n\nSponsored by the Josephine County Historical Society.\n\n\n\nPioneer Spirits Come Alive
X-ALT-DESC;FMTTYPE=text/html:<strong>Tours of the Odd Fellows and Masonic cemeteries\, with actors portraying the departed spirits of local historical figures.<br />\n<br />\nSponsored by the Josephine County Historical Society.<br />\n<br />\n<u>Pioneer Spirits Come Alive</u></strong><br />\n<br />\n&nbsp\;
LOCATION:Oddfellows Cemetery Off Foothill Blvd
UID:e.1818.15516
SEQUENCE:3
DTSTAMP:20260425T163019Z
URL:https://business.grantspasschamber.org/events/details/graveyard-tour-odd-fellows-and-masonic-cemeteries-15516
END:VEVENT

END:VCALENDAR
