BEGIN:VCALENDAR
VERSION:2.0
PRODID:-//ChamberMaster//Event Calendar 2.0//EN
METHOD:PUBLISH
X-PUBLISHED-TTL:P3D
REFRESH-INTERVAL:P3D
CALSCALE:GREGORIAN
BEGIN:VEVENT
DTSTART;VALUE=DATE:20161121
DTEND;VALUE=DATE:20161130
TRANSP:TRANSPARENT
X-MICROSOFT-CDO-ALLDAYEVENT:TRUE
SUMMARY:Great Ginger Bread Challenge ~ 2016
DESCRIPTION:STEPS TO ENTER:\n\n1. Create a Gingerbread house masterpiece and win a gift basket\n\n2. Snap a picture of your Gingerbread house masterpiece \n\n3. Upload your photo and contact information to this Facebook post\n\n\n\nHOW IT WORKS:\n\nTuesday\, November 29th the challenge will close\n\nWednesday\, November 30th our team will pick the top 5 Gingerbread houses\n\nThursday and Friday\, December 1st and 2nd we will collect the top 5 houses and display them upstairs inside Shop River Rock\n\n\n\nOver the weekend December 3rd-5th come in and vote for your favorite Gingerbread creation\n\n\n\nTuesday\, December 6th we will announce the #1 Gingerbread house and winner of the gift basket
X-ALT-DESC;FMTTYPE=text/html:<span style="font-size:18px\;"><u><strong><span style="color: rgb(29\, 33\, 41)\;"><span style="font-family: helvetica\,sans-serif\;">STEPS TO ENTER:</span></span></strong></u></span><br />\n<strong><span style="color:#1D2129\;"><span style="font-family:helvetica\,sans-serif\;"><span style="font-size:8.5pt\;">1. Create a Gingerbread house masterpiece and win a gift basket<br />\n2. Snap a picture of your Gingerbread house masterpiece&nbsp\;<br />\n3. Upload your photo and contact information to this Facebook post</span></span></span></strong><br />\n<br />\n<u><strong><span style="font-size:18px\;"><span style="color: rgb(29\, 33\, 41)\;"><span style="font-family: helvetica\,sans-serif\;">HOW IT WORKS:</span></span></span></strong></u><br />\n<strong><span style="color:#1D2129\;"><span style="font-family:helvetica\,sans-serif\;"><span style="font-size:8.5pt\;">Tuesday\, November 29th the challenge will close</span></span></span><br />\n<span style="color:#1D2129\;"><span style="font-family:helvetica\,sans-serif\;"><span style="font-size:8.5pt\;">Wednesday\, November 30th our team will pick the top 5 Gingerbread houses</span></span></span><br />\n<span style="color:#1D2129\;"><span style="font-family:helvetica\,sans-serif\;"><span style="font-size:8.5pt\;">Thursday and Friday\, December 1st and 2nd we will collect the top 5 houses and display them upstairs inside Shop River Rock</span></span></span></strong><br />\n<br />\n<u><strong><span style="color:#1D2129\;"><span style="font-family:helvetica\,sans-serif\;"><span style="font-size:8.5pt\;">Over the weekend December 3rd-5th come in and vote for your favorite Gingerbread creation</span></span></span></strong></u><br />\n<br />\n<span style="color:#1D2129\;"><span style="font-family:helvetica\,sans-serif\;"><span style="font-size:8.5pt\;"><strong>Tuesday\, December 6th we will announce the #1 Gingerbread house and winner of the gift baske</strong>t</span></span></span>
LOCATION:Shop River Rock
UID:e.1818.19084
SEQUENCE:3
DTSTAMP:20260425T142911Z
URL:https://business.grantspasschamber.org/events/details/great-ginger-bread-challenge-2016-19084
END:VEVENT

END:VCALENDAR
