BEGIN:VCALENDAR
VERSION:2.0
PRODID:-//ChamberMaster//Event Calendar 2.0//EN
METHOD:PUBLISH
X-PUBLISHED-TTL:P3D
REFRESH-INTERVAL:P3D
CALSCALE:GREGORIAN
BEGIN:VEVENT
DTSTART:20200115T154500Z
DTEND:20200115T170000Z
X-MICROSOFT-CDO-ALLDAYEVENT:FALSE
SUMMARY:Greeters
DESCRIPTION:Hosted by Search & Rescue  of Josephine County\n\nLocation TBD
X-ALT-DESC;FMTTYPE=text/html:Hosted by&nbsp\;Search &amp\; Rescue&nbsp\; of Josephine County<br />\nLocation TBD<br />\n&nbsp\;
LOCATION:TBD
UID:e.1818.19848
SEQUENCE:3
DTSTAMP:20260423T235338Z
URL:https://business.grantspasschamber.org/events/details/greeters-01-15-2020-19848
END:VEVENT

END:VCALENDAR
