BEGIN:VCALENDAR
VERSION:2.0
PRODID:-//ChamberMaster//Event Calendar 2.0//EN
METHOD:PUBLISH
X-PUBLISHED-TTL:P3D
REFRESH-INTERVAL:P3D
CALSCALE:GREGORIAN
BEGIN:VEVENT
DTSTART:20180614T164500Z
DTEND:20180614T200000Z
X-MICROSOFT-CDO-ALLDAYEVENT:FALSE
SUMMARY:GROUNDBREAKING Celebration - Countryside Village
DESCRIPTION:Please join COUNTRYSIDE VILLAGE in Celebrating\n\nour official Ground-Breaking ceremony of\n\nTHE LODGE at COUNTRYSIDE VILLAGE\n\nA Memory Care Community
X-ALT-DESC;FMTTYPE=text/html:<br />\n<strong>Please join COUNTRYSIDE VILLAGE in Celebrating<br />\nour official Ground-Breaking ceremony of<br />\nTHE LODGE at COUNTRYSIDE VILLAGE<br />\nA Memory Care Community</strong>
LOCATION:1700 Kellenbeck Ave Grants Pass\, OR 97527
UID:e.1818.29223
SEQUENCE:3
DTSTAMP:20260424T013412Z
URL:https://business.grantspasschamber.org/events/details/groundbreaking-celebration-countryside-village-29223
END:VEVENT

END:VCALENDAR
