BEGIN:VCALENDAR
VERSION:2.0
PRODID:-//ChamberMaster//Event Calendar 2.0//EN
METHOD:PUBLISH
X-PUBLISHED-TTL:P3D
REFRESH-INTERVAL:P3D
CALSCALE:GREGORIAN
BEGIN:VEVENT
DTSTART:20160521T190000Z
DTEND:20160522T190000Z
X-MICROSOFT-CDO-ALLDAYEVENT:FALSE
SUMMARY:Gun and Knife Show
DESCRIPTION:Collectors West Gun & Knife Show
X-ALT-DESC;FMTTYPE=text/html:<strong>Collectors West Gun &amp\; Knife Show</strong>
LOCATION:Josephine County Fairgrounds
UID:e.1818.15253
SEQUENCE:3
DTSTAMP:20260426T000115Z
URL:https://business.grantspasschamber.org/events/details/gun-and-knife-show-05-21-2016-15253
END:VEVENT

END:VCALENDAR
