BEGIN:VCALENDAR
VERSION:2.0
PRODID:-//ChamberMaster//Event Calendar 2.0//EN
METHOD:PUBLISH
X-PUBLISHED-TTL:P3D
REFRESH-INTERVAL:P3D
CALSCALE:GREGORIAN
BEGIN:VEVENT
DTSTART;VALUE=DATE:20161029
DTEND;VALUE=DATE:20161030
TRANSP:TRANSPARENT
X-MICROSOFT-CDO-ALLDAYEVENT:TRUE
SUMMARY:Halloween Festival ~ GP Shopping Center
DESCRIPTION:Halloween Festival at the Grants Pass Shopping Center will take place October 29th\, from 1pm- 4pm.\n\n\n\nActivities Include:\n\n\n	Trick or Treating at participating locations\n	Kids' Costume Contest (Next to GNC @ 1:30pm)\n	Bounce Houses\n	Face Painting\n	Balloon Twisting\n	Hay Rides
X-ALT-DESC;FMTTYPE=text/html:<strong>Halloween Festival at the Grants Pass Shopping Center will take place October 29th\, from 1pm- 4pm.<br />\n<br />\n<u>Activities Include:</u></strong>\n\n<ul>\n	<li><strong>Trick or Treating at participating locations</strong></li>\n	<li><strong>Kids&#39\; Costume Contest (Next to GNC @ 1:30pm)</strong></li>\n	<li><strong>Bounce Houses</strong></li>\n	<li><strong>Face Painting</strong></li>\n	<li><strong>Balloon Twisting</strong></li>\n	<li><strong>Hay Rides</strong></li>\n</ul>\n
LOCATION:Grants Pass Shopping Center 959 NE D Street Grants Pass
UID:e.1818.17913
SEQUENCE:3
DTSTAMP:20260425T163511Z
URL:https://business.grantspasschamber.org/events/details/halloween-festival-gp-shopping-center-17913
END:VEVENT

END:VCALENDAR
