BEGIN:VCALENDAR
VERSION:2.0
PRODID:-//ChamberMaster//Event Calendar 2.0//EN
METHOD:PUBLISH
X-PUBLISHED-TTL:P3D
REFRESH-INTERVAL:P3D
CALSCALE:GREGORIAN
BEGIN:VEVENT
DTSTART:20171028T200000Z
DTEND:20171028T230000Z
X-MICROSOFT-CDO-ALLDAYEVENT:FALSE
SUMMARY:Harvest Festival ~ Lions Gate Church
DESCRIPTION:Harvest Festival ~ All Free ~ Everyone Invited\n\n\n\n"Fall Fun" for our Community\n\nBalloons\, Cotton Candy\, Funnel Cakes\, Face Painting\, Prizes\, Climbing Wall\, Jump Houses\, Music\, Raffles\, Hot Dogs
X-ALT-DESC;FMTTYPE=text/html:<br />\n<strong><u><span style="font-size:16px\;">Harvest Festival ~ All Free ~ Everyone Invited</span></u><br />\n<br />\n<span style="font-family:comic sans ms\;"><span style="font-size: 18px\;"><span style="color: rgb(255\, 0\, 0)\;">&quot\;Fall Fun&quot\; for our Community</span></span></span><br />\nBalloons\, Cotton Candy\, Funnel Cakes\, Face Painting\, Prizes\, Climbing Wall\, Jump Houses\, Music\, Raffles\, Hot Dogs</strong>
LOCATION:Lions Gate Church 1465 NE 6th Street (@ Midland) Grants Pass
UID:e.1818.24633
SEQUENCE:3
DTSTAMP:20260424T201230Z
URL:https://business.grantspasschamber.org/events/details/harvest-festival-lions-gate-church-24633
END:VEVENT

END:VCALENDAR
