BEGIN:VCALENDAR
VERSION:2.0
PRODID:-//ChamberMaster//Event Calendar 2.0//EN
METHOD:PUBLISH
X-PUBLISHED-TTL:P3D
REFRESH-INTERVAL:P3D
CALSCALE:GREGORIAN
BEGIN:VEVENT
DTSTART;VALUE=DATE:20161015
DTEND;VALUE=DATE:20161016
TRANSP:TRANSPARENT
X-MICROSOFT-CDO-ALLDAYEVENT:TRUE
SUMMARY:Harvest Moon Hoedown ~ Fundraiser Learning Through Arts in IV
DESCRIPTION:The Illinois River Valley Arts Council presents:\n\n"Harvest Moon Hoedown" ~ Fundraiser for Learning Through Arts in I.V.\n\n\n\nDance caller John Luna with the fabulous Three Rivers All-Stars Band\n\n\n\nCoffee\, tea and water free\, plus homemade desserts available for purchase\n\n\n\nPlease join us for a fantastic evening of country dancing at the annual Harvest Moon Hoedown !!
X-ALT-DESC;FMTTYPE=text/html:<strong>The Illinois River Valley Arts Council presents:<br />\n&quot\;Harvest Moon Hoedown&quot\; ~ Fundraiser for Learning Through Arts in I.V.<br />\n<br />\nDance caller John Luna with the fabulous Three Rivers All-Stars Band</strong><br />\n<br />\n<strong>Coffee\, tea and water free\, plus homemade desserts available for purchase<br />\n<br />\n<u>Please join us</u> for a fantastic evening of country dancing at the annual Harvest Moon Hoedown !! </strong>
LOCATION:Selma Community Center 18255 Redwood Hwy Selma
UID:e.1818.17890
SEQUENCE:3
DTSTAMP:20260425T163235Z
URL:https://business.grantspasschamber.org/events/details/harvest-moon-hoedown-fundraiser-learning-through-arts-in-iv-17890
END:VEVENT

END:VCALENDAR
