BEGIN:VCALENDAR
VERSION:2.0
PRODID:-//ChamberMaster//Event Calendar 2.0//EN
METHOD:PUBLISH
X-PUBLISHED-TTL:P3D
REFRESH-INTERVAL:P3D
CALSCALE:GREGORIAN
BEGIN:VEVENT
DTSTART:20191101T020000Z
DTEND:20191101T050000Z
X-MICROSOFT-CDO-ALLDAYEVENT:FALSE
SUMMARY:Haunted Corn Maze
DESCRIPTION:Haunted Corn Maze ticket sales are from 7:00 pm-10:00 pm. Pre-sale on tickets at FVF Farm Stand at the Corn Maze Pumpkin Patch. Haunted Maze starts at dark. 18th\, 19th\, 25th\, 26th\, 30th\, 31st!! It is SCARY!!! We recommend 8 yrs old and up\, but it is always on the parents to decide what their child can handle.
X-ALT-DESC;FMTTYPE=text/html:<span style="font-size:16px\;"><span style="color: rgb(29\, 33\, 41)\; font-family: Helvetica\, Arial\, sans-serif\; white-space: pre-wrap\; background-color: rgb(255\, 255\, 255)\;">Haunted Corn Maze ticket sales are from 7:00 pm-10:00 pm. Pre-sale on tickets at FVF Farm Stand at the Corn Maze Pumpkin Patch. Haunted Maze starts at dark. 18th\, 19th\, 25th\, 26th\, 30th\, 31st!! It is SCARY!!! We recommend 8 yrs old and up\, but it is always on the parents to decide what their child can handle. </span></span>
LOCATION:Fort Vonnoy Farms 5791 Lower River Rd
UID:e.1818.32263
SEQUENCE:3
DTSTAMP:20260423T190806Z
URL:https://business.grantspasschamber.org/events/details/haunted-corn-maze-32263
END:VEVENT

END:VCALENDAR
