BEGIN:VCALENDAR
VERSION:2.0
PRODID:-//ChamberMaster//Event Calendar 2.0//EN
METHOD:PUBLISH
X-PUBLISHED-TTL:P3D
REFRESH-INTERVAL:P3D
CALSCALE:GREGORIAN
BEGIN:VEVENT
DTSTART:20221015T030000Z
DTEND:20221015T060000Z
X-MICROSOFT-CDO-ALLDAYEVENT:FALSE
SUMMARY:Haunted Corn Maze ~ Fort Vannoy Farms
DESCRIPTION:Haunted Maze $19 per person\n\n23 screams\, a Non-Profit haunting company who works with the youth in Grants Pass and Merlin\, will be haunting Fort Vannoy Farms Corn Maze giving you and experience you aren't likely to forget. They pride themselves in leaving the haunted petrified. Nineteen rooms of horror from classic scares such as Clowns with Chainsaws\, to the new addition of a Zombie Maze. You are guaranteed to be scared.\n\nIt is an Outdoor\, in a sometimes muddy field\, at Night event and we play rain (within reason) or moon shine\, please dress appropriately. The lines can be long\, so bring a warm coat and wear comfortable shoes with traction preferred. We do have fires burning along the lines to give you breaks from the cold. Warm beverages and tasty treats can also be found while in line. If you show up hungry\, there will be Food Trucks open until 7 pm.\n\n \n\nFor more information or to purchase tickets visit\n\n http://www.fortvannoyfarms.com
X-ALT-DESC;FMTTYPE=text/html:<div font-size:="" style="color: rgb(51\, 51\, 51)\; text-align: center\;" text-align:="" trebuchet=""><strong><span style="font-size:26px\;"><span style="color: rgb(29\, 33\, 41)\; font-family: Helvetica\, Arial\, sans-serif\; background-color: rgb(255\, 255\, 255)\;">Haunted Maze $19&nbsp\;per person</span></span></strong></div>\n\n<div font-size:="" style="color: rgb(51\, 51\, 51)\; text-align: center\;" text-align:="" trebuchet=""><span style="font-size:20px\;"><span background-color:="" color:="" font-size:="" trebuchet=""><b>23 screams\, a Non-Profit haunting company</b></span><span background-color:="" font-size:="" style="color: rgb(32\, 32\, 32)\; font-family: " trebuchet="">&nbsp\;who works with the youth in Grants Pass and Merlin\, will be haunting Fort Vannoy Farms Corn Maze giving you and experience you aren&#39\;t likely to forget.&nbsp\;</span><span background-color:="" color:="" font-size:="" trebuchet=""><b>They pride themselves in leaving the haunted petrified.</b></span><span background-color:="" font-size:="" style="color: rgb(32\, 32\, 32)\; font-family: " trebuchet="">&nbsp\;Nineteen rooms of horror from classic scares such as Clowns with Chainsaws\, to the new addition of a Zombie Maze. You are guaranteed to be scared.<br />\nIt is an Outdoor\, in a sometimes muddy field\, at Night event and we play rain (within reason) or moon shine\, please dress appropriately. The lines can be long\, so bring a warm coat and wear comfortable shoes with traction preferred.&nbsp\;</span><span background-color:="" color:="" font-size:="" trebuchet=""><b>We do have fires burning along the lines to give you breaks from the cold. Warm beverages and tasty treats can also be found while in line.</b></span><span background-color:="" font-size:="" style="color: rgb(32\, 32\, 32)\; font-family: " trebuchet="">&nbsp\;If you show up hungry\, there will be Food Trucks open until 7 pm.</span></span></div>\n\n<div font-size:="" style="color: rgb(51\, 51\, 51)\; font-family: sans-serif\, Arial\, Verdana\, " text-align:="" trebuchet="">&nbsp\;</div>\n\n<div font-size:="" style="color: rgb(51\, 51\, 51)\; text-align: center\;" text-align:="" trebuchet=""><span style="font-size:20px\;"><span style="color: rgb(29\, 33\, 41)\; font-family: Helvetica\, Arial\, sans-serif\; background-color: rgb(255\, 255\, 255)\;"><span comic="" sans=""><span style="font-family: arial\;">For more information or to purchase tickets visit<br />\n&nbsp\;<a href="http://www.fortvannoyfarms.com" style="color: rgb(7\, 130\, 193)\;">http://www.fortvannoyfarms.com</a></span></span></span></span></div>\n
LOCATION:Fort Vannoy Farms 5791 Lower River Rd Grants Pass
UID:e.1818.41257
SEQUENCE:3
DTSTAMP:20260425T180010Z
URL:https://business.grantspasschamber.org/events/details/haunted-corn-maze-fort-vannoy-farms-10-14-2022-41257
END:VEVENT

END:VCALENDAR
