BEGIN:VCALENDAR
VERSION:2.0
PRODID:-//ChamberMaster//Event Calendar 2.0//EN
METHOD:PUBLISH
X-PUBLISHED-TTL:P3D
REFRESH-INTERVAL:P3D
CALSCALE:GREGORIAN
BEGIN:VEVENT
DTSTART:20211017T020000Z
DTEND:20211017T050000Z
X-MICROSOFT-CDO-ALLDAYEVENT:FALSE
SUMMARY:Haunted Corn Maze ~ Fort Vannoy Farms
DESCRIPTION:Haunted Maze $15 per person\n\n\n\nFor those who wish to experience a frightful evening\, the Haunted Maze will be open Friday and Saturday nights from 7:00pm-10:00pm. Fright Nights dates in October are 8/9\, 15/16\, 22/23\, 29/30 & 31. Wander the SAW- themed rooms in the maze with all nature of creepy characters.\n\n\n\nFor more information please\n\nvisit http://www.fortvannoyfarms.com
X-ALT-DESC;FMTTYPE=text/html:<div style="color: rgb(51\, 51\, 51)\; font-family: sans-serif\, Arial\, Verdana\, &quot\;Trebuchet MS&quot\;\; font-size: 13px\; text-align: center\;"><span style="color: rgb(29\, 33\, 41)\; font-family: Helvetica\, Arial\, sans-serif\; font-size: 16px\; background-color: rgb(255\, 255\, 255)\;">Haunted Maze $15 per person</span></div>\n\n<div style="color: rgb(51\, 51\, 51)\; font-family: sans-serif\, Arial\, Verdana\, &quot\;Trebuchet MS&quot\;\; font-size: 13px\; text-align: center\;"><br />\n<span style="background-color: rgb(255\, 255\, 255)\;"><font color="#1d2129" face="Helvetica\, Arial\, sans-serif"><em><span style="font-size: 16px\;">For those who wish to experience a frightful&nbsp\;evening\, the&nbsp\;Haunted Maze will be open Friday and Saturday nights from 7:00pm-10:00pm. Fright Nights dates in October are 8/9\, 15/16\, 22/23\, 29/30 &amp\; 31. Wander the SAW- themed rooms in the maze with all nature of creepy&nbsp\;</span></em><em><span style="font-size: 16px\;">characters.</span></em></font></span></div>\n\n<div style="color: rgb(51\, 51\, 51)\; font-family: sans-serif\, Arial\, Verdana\, &quot\;Trebuchet MS&quot\;\; font-size: 13px\; text-align: center\;"><br />\n<span style="font-size: 16px\; color: rgb(29\, 33\, 41)\; font-family: Helvetica\, Arial\, sans-serif\; background-color: rgb(255\, 255\, 255)\;"><span style="font-family: &quot\;comic sans ms&quot\;\;"><span style="font-family: arial\;">For more information please<br />\nvisit&nbsp\;<a href="http://www.fortvannoyfarms.com" style="color: rgb(7\, 130\, 193)\;">http://www.fortvannoyfarms.com</a></span></span></span></div>\n
LOCATION:Fort Vannoy Farms 5791 Lower River Rd Grants Pass
UID:e.1818.37838
SEQUENCE:3
DTSTAMP:20260421T074957Z
URL:https://business.grantspasschamber.org/events/details/haunted-corn-maze-fort-vannoy-farms-10-16-2021-37838
END:VEVENT

END:VCALENDAR
