BEGIN:VCALENDAR
VERSION:2.0
PRODID:-//ChamberMaster//Event Calendar 2.0//EN
METHOD:PUBLISH
X-PUBLISHED-TTL:P3D
REFRESH-INTERVAL:P3D
CALSCALE:GREGORIAN
BEGIN:VEVENT
DTSTART:20160917T180000Z
DTEND:20160918T000000Z
X-MICROSOFT-CDO-ALLDAYEVENT:FALSE
SUMMARY:Healthy Food Festival ~ 2nd Annual
DESCRIPTION:SAVE THE DATE! For a Healthy YOU! Health begins with Food. We are inspiring the vital transition to wellness within our community and beyond.\n\n\n\nParticipants learn that is is possible to maintain a consciously healthy lifestyle ~ even with limited income\, growing kids\, and busy or hectic lifestyles.\n\n\n\nFood tasting\, films\, speakers\, child care\, and more for a fun filled educational event that excites your taste buds and tummy. Sponsorship and Vendor Opportunities Available now!\n\n\n\nhttps://www.facebook.com/healthyfoodfestival/
X-ALT-DESC;FMTTYPE=text/html:<strong>SAVE THE DATE! For a Healthy YOU! Health begins with Food. We are inspiring the vital transition to wellness within our community and beyond.<br />\n<br />\nParticipants learn that is is possible to maintain a consciously healthy lifestyle ~ even with limited income\, growing kids\, and busy or hectic lifestyles.<br />\n<br />\nFood tasting\, films\, speakers\, child care\, and more for a fun filled educational event that excites your taste buds and tummy. Sponsorship and Vendor Opportunities Available now!</strong><br />\n<br />\n<a href="https://www.facebook.com/healthyfoodfestival/" style="box-sizing: border-box\; color: rgb(70\, 101\, 155)\; text-decoration: none\; font-family: &quot\;Open Sans&quot\;\; font-size: 14px\; font-style: normal\; font-variant-ligatures: normal\; font-variant-caps: normal\; font-weight: normal\; letter-spacing: normal\; line-height: 23.8px\; orphans: 2\; text-align: start\; text-indent: 0px\; text-transform: none\; white-space: normal\; widows: 2\; word-spacing: 0px\; -webkit-text-stroke-width: 0px\; background: rgb(255\, 255\, 255)\;" target="_blank">https://www.facebook.com/healthyfoodfestival/</a><br />\n&nbsp\;
LOCATION:Josephine County Fairgrounds Pavilion 1451 Fairgrounds Rd\, Grants Pass\, OR
UID:e.1818.17664
SEQUENCE:3
DTSTAMP:20260425T181932Z
URL:https://business.grantspasschamber.org/events/details/healthy-food-festival-2nd-annual-17664
END:VEVENT

END:VCALENDAR
