BEGIN:VCALENDAR
VERSION:2.0
PRODID:-//ChamberMaster//Event Calendar 2.0//EN
METHOD:PUBLISH
X-PUBLISHED-TTL:P3D
REFRESH-INTERVAL:P3D
CALSCALE:GREGORIAN
BEGIN:VEVENT
DTSTART:20160430T180000Z
DTEND:20160430T210000Z
X-MICROSOFT-CDO-ALLDAYEVENT:FALSE
SUMMARY:Healthy Kids Day
DESCRIPTION:FREE to the entire community! YMCA Annual Healthy Kids Day Community Vendors Games Healthy Snacks Bounce Obstacle course Police Car\, Ambulance and Fire truck to Explore Free car seat checks Rock Climbing Wall Swimming Bike rodeo (Bring your own bike)
X-ALT-DESC;FMTTYPE=text/html:<strong>FREE to the entire community! YMCA Annual Healthy Kids Day Community Vendors Games Healthy Snacks Bounce Obstacle course Police Car\, Ambulance and Fire truck to Explore Free car seat checks Rock Climbing Wall Swimming Bike rodeo (Bring your own bike)</strong>
LOCATION:Grants Pass Family YMCA 1000 Redwood Avenue
UID:e.1818.17439
SEQUENCE:3
DTSTAMP:20260426T013437Z
URL:https://business.grantspasschamber.org/events/details/healthy-kids-day-04-30-2016-17439
END:VEVENT

END:VCALENDAR
