BEGIN:VCALENDAR
VERSION:2.0
PRODID:-//ChamberMaster//Event Calendar 2.0//EN
METHOD:PUBLISH
X-PUBLISHED-TTL:P3D
REFRESH-INTERVAL:P3D
CALSCALE:GREGORIAN
BEGIN:VEVENT
DTSTART:20160920T000000Z
DTEND:20160920T020000Z
X-MICROSOFT-CDO-ALLDAYEVENT:FALSE
SUMMARY:HEART HEALTHY BREAKFAST
DESCRIPTION:All recipes will feature a breakfast item that is not only easy to make but also delicious and heart healthy.\n\n\n\nFREE COOKING CLASS! Class includes recipes as well as samples of each item prepared. Classes will be held in the Demonstration Kitchen on the 4th Floor of the Asante Center for Outpatient Health located at 537 SW Union Avenue in Grants Pass. Space is limited\, reservations are required. Please call and reserve your seat at 541-471-4208.
X-ALT-DESC;FMTTYPE=text/html:<strong>All recipes will feature a breakfast item that is not only easy to make but also delicious and heart healthy.<br />\n<br />\nFREE COOKING CLASS! Class includes recipes as well as samples of each item prepared. Classes will be held in the Demonstration Kitchen on the 4th Floor of the Asante Center for Outpatient Health located at 537 SW Union Avenue in Grants Pass. Space is limited\, reservations are required. Please call and reserve your seat at 541-471-4208.</strong>
LOCATION:Asante Center for Outpatient Health 537 SW Union Ave Grants Pass\, OR 97527 Demonstration Kitchen\, Fourth Floor Straight ahead off the elevator
UID:e.1818.17705
SEQUENCE:3
DTSTAMP:20260425T181451Z
URL:https://business.grantspasschamber.org/events/details/heart-healthy-breakfast-09-19-2016-17705
END:VEVENT

END:VCALENDAR
