BEGIN:VCALENDAR
VERSION:2.0
PRODID:-//ChamberMaster//Event Calendar 2.0//EN
METHOD:PUBLISH
X-PUBLISHED-TTL:P3D
REFRESH-INTERVAL:P3D
CALSCALE:GREGORIAN
BEGIN:VEVENT
DTSTART:20180621T210000Z
DTEND:20180621T223000Z
X-MICROSOFT-CDO-ALLDAYEVENT:FALSE
SUMMARY:Heartland Dance Studio - The Wonderful Wizard of Oz
DESCRIPTION:www.heartlanddancestudio.com\n\nCome and see this one-of-a-kind production! Heartland Dance Studio is presenting an original full-length Dance Production of L. Frank Baum's delightful tale\, The Wonderful Wizard of Oz. \n\n\n\nDirected by Laurel Kehoe\, The Wonderful Wizard of Oz is the fanciful story of Dorothy Gale\, a young girl who is swept away from her home in Kansas and led into the magical land of Oz. It follows her adventures and challenges as she encounters frightful characters\, makes meaningful friendships\, and learns a number of valuable life lessons that she will treasure forever. The story comes to life through classical and contemporary dance.\n\n\n\nCome see what our 150 dancers and crew have worked so hard since January to present to this community!\n\n\n\n\n\nTICKETS ONLINE April 23rd!
X-ALT-DESC;FMTTYPE=text/html:<p>&nbsp\;</p>\n\n<p><a href="http://heartlanddancestudio.com">www.heartlanddancestudio.com</a></p>\n\n<p>Come and see this one-of-a-kind production! Heartland Dance Studio is presenting an original full-length Dance Production of L. Frank Baum&#39\;s delightful tale\,<em>&nbsp\;The Wonderful Wizard of Oz</em>.&nbsp\;<br />\n<br />\nDirected by Laurel Kehoe\,&nbsp\;<em>The Wonderful Wizard of Oz</em>&nbsp\;is the fanciful story of Dorothy Gale\, a young girl who is swept away from her home in Kansas and led into the magical land of Oz. It follows her adventures and challenges as she encounters frightful characters\, makes meaningful friendships\, and learns a number of valuable life lessons that she will treasure forever. The story comes to life through classical and contemporary dance.<br />\n<br />\nCome see what our 150 dancers and crew have worked so hard since January to present to this community!<br />\n<br />\n<br />\n<strong>TICKETS ONLINE April 23rd!</strong><br />\n&nbsp\;</p>\n
LOCATION:Grants Pass Performing Arts Center
UID:e.1818.28825
SEQUENCE:3
DTSTAMP:20260424T013001Z
URL:https://business.grantspasschamber.org/events/details/heartland-dance-studio-the-wonderful-wizard-of-oz-28825
END:VEVENT

END:VCALENDAR
