BEGIN:VCALENDAR
VERSION:2.0
PRODID:-//ChamberMaster//Event Calendar 2.0//EN
METHOD:PUBLISH
X-PUBLISHED-TTL:P3D
REFRESH-INTERVAL:P3D
CALSCALE:GREGORIAN
BEGIN:VEVENT
DTSTART:20160812T230000Z
DTEND:20160813T030000Z
X-MICROSOFT-CDO-ALLDAYEVENT:FALSE
SUMMARY:Hearts with a Mission ~ Open House
DESCRIPTION:Celebrate the opening of Josephine County's only shelter for homeless and at risk youth ! !\n\n\n\nThank you to our many sponsors and donors.
X-ALT-DESC;FMTTYPE=text/html:<strong>Celebrate the opening of Josephine County&#39\;s only shelter for homeless and at risk youth ! !<br />\n<br />\nThank you to our many sponsors and donors.</strong>
LOCATION:Grants Pass Shelter Open House 1504 NE 9th Street
UID:e.1818.17698
SEQUENCE:3
DTSTAMP:20260425T192504Z
URL:https://business.grantspasschamber.org/events/details/hearts-with-a-mission-open-house-08-12-2016-17698
END:VEVENT

END:VCALENDAR
