BEGIN:VCALENDAR
VERSION:2.0
PRODID:-//ChamberMaster//Event Calendar 2.0//EN
METHOD:PUBLISH
X-PUBLISHED-TTL:P3D
REFRESH-INTERVAL:P3D
CALSCALE:GREGORIAN
BEGIN:VEVENT
DTSTART:20160302T003000Z
DTEND:20160302T010000Z
X-MICROSOFT-CDO-ALLDAYEVENT:FALSE
SUMMARY:Hiring Event
DESCRIPTION:A leader in providing analytics\, audit\, and recovery services for Government\, Healthcare and Financial Services markets. In business 40 years\, and growing. ? Are you looking for a career ? not just a job? - We value internal career growth & promotion.  Are you a high performer and want the ability to earn more? - We pay an hourly base\, plus offer rich bonus opportunities. ? Are you a quick learner and adaptable? - We provide paid training. ? Are you seeking work-life balance? - We have competitive benefits & flexible M-F schedules. Come learn more about our career opportunities: March 1\, 2016 4:30 p.m. 1780 Nebraska Ave Grants Pass\, Oregon Apply online: http://www.performantcorp.com/careers-overiew
X-ALT-DESC;FMTTYPE=text/html:A leader in providing analytics\, audit\, and recovery services for Government\, Healthcare and Financial Services markets. In business 40 years\, and growing. ? Are you looking for a career ? not just a job? - We value internal career growth &amp\; promotion. &nbsp\;Are you a high performer and want the ability to earn more? - We pay an hourly base\, plus offer rich bonus opportunities. ? Are you a quick learner and adaptable? - We provide paid training. ? Are you seeking work-life balance? - We have competitive benefits &amp\; flexible M-F schedules. Come learn more about our career opportunities: March 1\, 2016 4:30 p.m. 1780 Nebraska Ave Grants Pass\, Oregon Apply online: http://www.performantcorp.com/careers-overiew
LOCATION:1780 Nebraska Ave Grants Pass\, Oregon
UID:e.1818.15796
SEQUENCE:3
DTSTAMP:20260426T030334Z
URL:https://business.grantspasschamber.org/events/details/hiring-event-03-01-2016-15796
END:VEVENT

END:VCALENDAR
