BEGIN:VCALENDAR
VERSION:2.0
PRODID:-//ChamberMaster//Event Calendar 2.0//EN
METHOD:PUBLISH
X-PUBLISHED-TTL:P3D
REFRESH-INTERVAL:P3D
CALSCALE:GREGORIAN
BEGIN:VEVENT
DTSTART;VALUE=DATE:20161116
DTEND;VALUE=DATE:20161119
TRANSP:TRANSPARENT
X-MICROSOFT-CDO-ALLDAYEVENT:TRUE
SUMMARY:Hiring Event ~ Three Days Performant
DESCRIPTION:Interview On the Spot\n\n\n\nPlease bring a copy of your current resume\, photo ID\n\nand dress is professional\n\n\n\n30 new positions
X-ALT-DESC;FMTTYPE=text/html:<span style="color:#FF0000\;"><span style="font-size: 18px\;"><u><strong>Interview On the Spot</strong></u></span></span><br />\n<br />\n<strong>Please bring a copy of your current resume\, photo ID<br />\nand dress is professional</strong><br />\n<br />\n<span style="color:#FF0000\;"><strong>30 new positions</strong></span><br />\n<br />\n<br />\n&nbsp\;
LOCATION:Performant 1780 Nebraska Avenue Grants Pass
UID:e.1818.18074
SEQUENCE:3
DTSTAMP:20260425T144508Z
URL:https://business.grantspasschamber.org/events/details/hiring-event-three-days-performant-18074
END:VEVENT

END:VCALENDAR
