BEGIN:VCALENDAR
VERSION:2.0
PRODID:-//ChamberMaster//Event Calendar 2.0//EN
METHOD:PUBLISH
X-PUBLISHED-TTL:P3D
REFRESH-INTERVAL:P3D
CALSCALE:GREGORIAN
BEGIN:VEVENT
DTSTART:20161118T200000Z
DTEND:20161120T000000Z
X-MICROSOFT-CDO-ALLDAYEVENT:FALSE
SUMMARY:Holiday Gift Bazaar
DESCRIPTION:Start your Holiday shopping here! Lots of Christmas gifts\, Scentsy\, Cutco\, Arbonne\, Pampered Chef\, Luela Roe clothing\, Jewelry\, and LOTS More!
X-ALT-DESC;FMTTYPE=text/html:<strong>Start your Holiday shopping here! Lots of Christmas gifts\, Scentsy\, Cutco\, Arbonne\, Pampered Chef\, Luela Roe clothing\, Jewelry\, and LOTS More!</strong>
LOCATION:Josephine County Fairgrounds
UID:e.1818.18007
SEQUENCE:3
DTSTAMP:20260425T143035Z
URL:https://business.grantspasschamber.org/events/details/holiday-gift-bazaar-18007
END:VEVENT

END:VCALENDAR
