BEGIN:VCALENDAR
VERSION:2.0
PRODID:-//ChamberMaster//Event Calendar 2.0//EN
METHOD:PUBLISH
X-PUBLISHED-TTL:P3D
REFRESH-INTERVAL:P3D
CALSCALE:GREGORIAN
BEGIN:VEVENT
DTSTART;VALUE=DATE:20171117
DTEND;VALUE=DATE:20171119
TRANSP:TRANSPARENT
X-MICROSOFT-CDO-ALLDAYEVENT:TRUE
SUMMARY:Holiday Gift & Chocolate Festival
DESCRIPTION:The Holiday Gift & Chocolate Festival is a family-friendly event featuring all handmade Art\, crafts\, food\, chocolate\, music\, a balloon man\, and so much more!\n\n\n\nCome see what the best vendors in the area have to offer for those special\, unique gift ideas you won't find anywhere else!
X-ALT-DESC;FMTTYPE=text/html:<strong>The Holiday Gift &amp\; Chocolate Festival is a family-friendly event featuring all handmade Art\, crafts\, food\, chocolate\, music\, a balloon man\, and so much more!</strong><br />\n<br />\n<strong>Come see what the best vendors in the area have to offer for those special\, unique gift ideas you won&#39\;t find anywhere else!</strong>
LOCATION:Josephine County Fairgrounds in the Pavilion Building
UID:e.1818.24771
SEQUENCE:3
DTSTAMP:20260424T182128Z
URL:https://business.grantspasschamber.org/events/details/holiday-gift-chocolate-festival-24771
END:VEVENT

END:VCALENDAR
