BEGIN:VCALENDAR
VERSION:2.0
PRODID:-//ChamberMaster//Event Calendar 2.0//EN
METHOD:PUBLISH
X-PUBLISHED-TTL:P3D
REFRESH-INTERVAL:P3D
CALSCALE:GREGORIAN
BEGIN:VEVENT
DTSTART:20171201T170000Z
DTEND:20171202T230000Z
X-MICROSOFT-CDO-ALLDAYEVENT:FALSE
SUMMARY:Holiday Quilt & Craft Sale
DESCRIPTION:
X-ALT-DESC;FMTTYPE=text/html:
LOCATION:Faith Lutheran Church 8582 Rogue River Hwy
UID:e.1818.24813
SEQUENCE:3
DTSTAMP:20260424T163802Z
URL:https://business.grantspasschamber.org/events/details/holiday-quilt-craft-sale-24813
END:VEVENT

END:VCALENDAR
