BEGIN:VCALENDAR
VERSION:2.0
PRODID:-//ChamberMaster//Event Calendar 2.0//EN
METHOD:PUBLISH
X-PUBLISHED-TTL:P3D
REFRESH-INTERVAL:P3D
CALSCALE:GREGORIAN
BEGIN:VEVENT
DTSTART;VALUE=DATE:20161118
DTEND;VALUE=DATE:20161120
TRANSP:TRANSPARENT
X-MICROSOFT-CDO-ALLDAYEVENT:TRUE
SUMMARY:Holiday Rummage Sale & Bazaar
DESCRIPTION:Bazaar includes Christmas decorations\, gift items\, artificial trees\, vendors with tupperware and jewelry\n\n\n\nRummage sale features clothing\, household and kitchen items\, plus books\, DVS's\, CD's\, VHS tapes\, records\, glassware\, crystal
X-ALT-DESC;FMTTYPE=text/html:Bazaar includes Christmas decorations\, gift items\, artificial trees\, vendors with tupperware and jewelry<br />\n<br />\nRummage sale features clothing\, household and kitchen items\, plus books\, DVS&#39\;s\, CD&#39\;s\, VHS tapes\, records\, glassware\, crystal<br />\n<br />\n&nbsp\;
LOCATION:Wilderville Methodist Church 7970 Old Redwood Hwy Wilderville
UID:e.1818.18037
SEQUENCE:3
DTSTAMP:20260425T144802Z
URL:https://business.grantspasschamber.org/events/details/holiday-rummage-sale-bazaar-18037
END:VEVENT

END:VCALENDAR
