BEGIN:VCALENDAR
VERSION:2.0
PRODID:-//ChamberMaster//Event Calendar 2.0//EN
METHOD:PUBLISH
X-PUBLISHED-TTL:P3D
REFRESH-INTERVAL:P3D
CALSCALE:GREGORIAN
BEGIN:VEVENT
DTSTART:20160911T160000Z
DTEND:20160911T210000Z
X-MICROSOFT-CDO-ALLDAYEVENT:FALSE
SUMMARY:Home Depot 2nd Annual Veterans & First Responders Outreach Celebration
DESCRIPTION:Veterans....Come One\, Come All ! ! ! \n\n\n\nFree services and informational booths for all veterans and first responders. A BBQ for everyone.\n\n\n\nMilitary honor guard flag ceremony. Quilts of valor presentation. Military displays and first responder displays.\n\n\n\nFree Services offered by our Supporters:\n\n\n	Veterans & First responders benefit & Information Booths\n	Military Displays\n	Free BBQ\n	Military Honor Guard Flag Ceremony at NOON by Young Marines\n	Free Haircuts for Vets & First Responders\n	Quilts of Valor Presentation
X-ALT-DESC;FMTTYPE=text/html:<strong><span style="font-size:20px\;">Veterans....Come One\, Come All ! ! ! </span><br />\n<br />\nFree services and informational booths for all veterans and first responders. A BBQ for everyone.<br />\n<br />\nMilitary honor guard flag ceremony. Quilts of valor presentation. Military displays and first responder displays.<br />\n<br />\n<u>Free Services offered by our Supporters:</u></strong>\n\n<ul>\n	<li><strong>Veterans &amp\; First responders benefit &amp\; Information Booths</strong></li>\n	<li><strong>Military Displays</strong></li>\n	<li><strong>Free BBQ</strong></li>\n	<li><strong>Military Honor Guard Flag Ceremony at NOON by Young Marines</strong></li>\n	<li><strong>Free Haircuts for Vets &amp\; First Responders</strong></li>\n	<li><strong>Quilts of Valor Presentation </strong></li>\n</ul>\n
LOCATION:Home Depot 111 NE Mill St. Grants Pass OR 97526
UID:e.1818.17744
SEQUENCE:3
DTSTAMP:20260425T181932Z
URL:https://business.grantspasschamber.org/events/details/home-depot-2nd-annual-veterans-first-responders-outreach-celebration-09-11-2016-17744
END:VEVENT

END:VCALENDAR
