BEGIN:VCALENDAR
VERSION:2.0
PRODID:-//ChamberMaster//Event Calendar 2.0//EN
METHOD:PUBLISH
X-PUBLISHED-TTL:P3D
REFRESH-INTERVAL:P3D
CALSCALE:GREGORIAN
BEGIN:VEVENT
DTSTART;VALUE=DATE:20160909
DTEND;VALUE=DATE:20160911
TRANSP:TRANSPARENT
X-MICROSOFT-CDO-ALLDAYEVENT:TRUE
SUMMARY:Homeless 2 Hopeful Benefit Run ~ 1st Annual
DESCRIPTION:This fundraiser will support the opening of Josephine County's 1st emergency shelter for homeless youth.\n\n\n\nBring the family at 8:30am and enjoy a 1 mile fun run or compete in a 5K or 10K\n\n\n\nDon't forget to dress as your favorite Super Hero for a chance to win prizes\, all while supporting our community's youth in need.\n\n\n\nPacket Pick Up:\n\nFriday\, September 9th at First Community Credit Union
X-ALT-DESC;FMTTYPE=text/html:<strong>This fundraiser will support the opening of Josephine County&#39\;s 1st emergency shelter for homeless youth.<br />\n<br />\nBring the family at 8:30am and enjoy a 1 mile fun run or compete in a 5K or 10K<br />\n<br />\nDon&#39\;t forget to dress as your favorite Super Hero for a chance to win prizes\, all while supporting our community&#39\;s youth in need.<br />\n<br />\n<u>Packet Pick Up</u>:<br />\nFriday\, September 9th at First Community Credit Union</strong>
LOCATION:Benefit Run First Community Credit Union 1551 Harbeck Rd Grants Pass
UID:e.1818.17807
SEQUENCE:3
DTSTAMP:20260425T181707Z
URL:https://business.grantspasschamber.org/events/details/homeless-2-hopeful-benefit-run-1st-annual-17807
END:VEVENT

END:VCALENDAR
