BEGIN:VCALENDAR
VERSION:2.0
PRODID:-//ChamberMaster//Event Calendar 2.0//EN
METHOD:PUBLISH
X-PUBLISHED-TTL:P3D
REFRESH-INTERVAL:P3D
CALSCALE:GREGORIAN
BEGIN:VEVENT
DTSTART:20160617T190000Z
DTEND:20160619T190000Z
X-MICROSOFT-CDO-ALLDAYEVENT:FALSE
SUMMARY:Hope Mountain Barter Faire
DESCRIPTION:A family festival with live music\, children's activities\, vendor booths\, and food. Benefits the Dome School.
X-ALT-DESC;FMTTYPE=text/html:A family festival with live music\, children&#39\;s activities\, vendor booths\, and food. Benefits the Dome School.
LOCATION:Cave Junction area
UID:e.1818.15263
SEQUENCE:3
DTSTAMP:20260425T224053Z
URL:https://business.grantspasschamber.org/events/details/hope-mountain-barter-faire-06-17-2016-15263
END:VEVENT

END:VCALENDAR
