BEGIN:VCALENDAR
VERSION:2.0
PRODID:-//ChamberMaster//Event Calendar 2.0//EN
METHOD:PUBLISH
X-PUBLISHED-TTL:P3D
REFRESH-INTERVAL:P3D
CALSCALE:GREGORIAN
BEGIN:VEVENT
DTSTART;VALUE=DATE:20160618
DTEND;VALUE=DATE:20160619
TRANSP:TRANSPARENT
X-MICROSOFT-CDO-ALLDAYEVENT:TRUE
SUMMARY:HOPS FOR POPS ~ Downtown Grants Pass
DESCRIPTION:Showcasing your Local Breweries and Tasting Rooms ~ Beer Stroll Event
X-ALT-DESC;FMTTYPE=text/html:<strong>Showcasing your Local Breweries and Tasting Rooms ~ Beer Stroll Event</strong>
LOCATION:Tickets on sale at: Blind George's Newsstand Frank N Stene's Umpqua Bank (Downtown)
UID:e.1818.17548
SEQUENCE:3
DTSTAMP:20260425T223603Z
URL:https://business.grantspasschamber.org/events/details/hops-for-pops-downtown-grants-pass-06-18-2016-17548
END:VEVENT

END:VCALENDAR
