BEGIN:VCALENDAR
VERSION:2.0
PRODID:-//ChamberMaster//Event Calendar 2.0//EN
METHOD:PUBLISH
X-PUBLISHED-TTL:P3D
REFRESH-INTERVAL:P3D
CALSCALE:GREGORIAN
BEGIN:VEVENT
DTSTART:20161029T003000Z
DTEND:20161030T050000Z
X-MICROSOFT-CDO-ALLDAYEVENT:FALSE
SUMMARY:Horrorland Haunted House ~ Old Movie Six Theater
DESCRIPTION:Horrorland Haunted House ~  Come to the Old Movie Six Theater at the Grants Pass Shopping Center and go through the scariest haunted house in Southern Oregon\, brought to you by Brighton Academy.
X-ALT-DESC;FMTTYPE=text/html:<strong><em><u>Horrorland Haunted House</u> ~&nbsp\; Come to the Old Movie Six Theater at the Grants Pass Shopping Center and go through the scariest haunted house in Southern Oregon\, brought to you by Brighton Academy.</em></strong>
LOCATION:1111 D Street\, Grants Pass Or 97526
UID:e.1818.17887
SEQUENCE:3
DTSTAMP:20260425T163533Z
URL:https://business.grantspasschamber.org/events/details/horrorland-haunted-house-old-movie-six-theater-17887
END:VEVENT

END:VCALENDAR
