BEGIN:VCALENDAR
VERSION:2.0
PRODID:-//ChamberMaster//Event Calendar 2.0//EN
METHOD:PUBLISH
X-PUBLISHED-TTL:P3D
REFRESH-INTERVAL:P3D
CALSCALE:GREGORIAN
BEGIN:VEVENT
DTSTART:20240726T010000Z
DTEND:20240726T030000Z
X-MICROSOFT-CDO-ALLDAYEVENT:FALSE
SUMMARY:Hot Summer Nights\, Cool Merlin Music
DESCRIPTION:A series of free music performances. Concerts are held Thursday evenings.\n\n\n\nJune 27th \n\nJim Lesher and the Country Express\n\nJuly 4th\n\nNO band\n\nJuly 11th \n\nTimeless\n\nJuly 18th \n\nCircle of Stone\n\nJuly 25th \n\nElysium\n\nAugust 1st \n\nRocksteady
X-ALT-DESC;FMTTYPE=text/html:<span style="font-size:20px\;">A series of free music performances. Concerts are held Thursday evenings.<br />\n<br />\n<strong><u>June 27th</u> </strong><br />\nJim Lesher and the Country Express<br />\n<strong><u>July 4th</u></strong></span><br />\n<strong style="color: rgb(51\, 51\, 51)\; font-family: sans-serif\, Arial\, Verdana\, &quot\;Trebuchet MS&quot\;\; font-size: 20px\; background-color: rgb(255\, 255\, 255)\;">NO band</strong><br />\n<span style="font-size:20px\;"><strong><u>July 11th</u> </strong><br />\nTimeless<br />\n<strong><u>July 18th</u> </strong><br />\nCircle of Stone<br />\n<strong><u>July 25th</u> </strong><br />\nElysium<br />\n<strong><u>August 1st</u> </strong><br />\nRocksteady</span>
LOCATION:Merlin Community Park 100 Acorn St
UID:e.1818.49771
SEQUENCE:3
DTSTAMP:20260420T072254Z
URL:https://business.grantspasschamber.org/events/details/hot-summer-nights-cool-merlin-music-07-25-2024-49771
END:VEVENT

END:VCALENDAR
