BEGIN:VCALENDAR
VERSION:2.0
PRODID:-//ChamberMaster//Event Calendar 2.0//EN
METHOD:PUBLISH
X-PUBLISHED-TTL:P3D
REFRESH-INTERVAL:P3D
CALSCALE:GREGORIAN
BEGIN:VEVENT
DTSTART;VALUE=DATE:20160804
DTEND;VALUE=DATE:20160805
TRANSP:TRANSPARENT
X-MICROSOFT-CDO-ALLDAYEVENT:TRUE
SUMMARY:Hot Summer Nights\, Cool Merlin Music
DESCRIPTION:A series of free music performances. Concerts are held Thursday evenings through August 25.\n\n\n\n"The Hundred"
X-ALT-DESC;FMTTYPE=text/html:A series of free music performances. Concerts are held Thursday evenings through August 25.<br />\n<br />\n<strong>&quot\;The Hundred&quot\;</strong>
LOCATION:Merlin Community Park
UID:e.1818.17683
SEQUENCE:3
DTSTAMP:20260425T192705Z
URL:https://business.grantspasschamber.org/events/details/hot-summer-nights-cool-merlin-music-08-04-2016-17683
END:VEVENT

END:VCALENDAR
