BEGIN:VCALENDAR
VERSION:2.0
PRODID:-//ChamberMaster//Event Calendar 2.0//EN
METHOD:PUBLISH
X-PUBLISHED-TTL:P3D
REFRESH-INTERVAL:P3D
CALSCALE:GREGORIAN
BEGIN:VEVENT
DTSTART;VALUE=DATE:20160917
DTEND;VALUE=DATE:20160918
TRANSP:TRANSPARENT
X-MICROSOFT-CDO-ALLDAYEVENT:TRUE
SUMMARY:Household Hazardous Waste Drop- Off Event
DESCRIPTION:Mark your calendar - Residential Customers\n\nWhat is collected:\n\n\n	Cleaning supplies\, old pesticides & insecticides\, swimming pool chemicals\, batteries\, old paint removers\, old or toxic wood preservatives\, weed killers\, fluorescent light ballasts\, thermostats containing mercury\n\nCall SOS at (541) 479-5335 or Republic Services (541) 479-3371 for more details
X-ALT-DESC;FMTTYPE=text/html:<strong><span style="font-size:20px\;"><span style="font-family: comic sans ms\;">Mark your calendar - Residential Customers</span></span></strong><br />\n<u><strong>What is collected:</strong></u>\n\n<ul>\n	<li>Cleaning supplies\, old pesticides &amp\; insecticides\, swimming pool chemicals\, batteries\, old paint removers\, old or toxic wood preservatives\, weed killers\, fluorescent light ballasts\, thermostats containing mercury</li>\n</ul>\nCall SOS at (541) 479-5335 or Republic Services (541) 479-3371 for more details<br />\n&nbsp\;
LOCATION:Drop Off Location: Southern Oregon Sanitation 1381 Redwood Avenue
UID:e.1818.17803
SEQUENCE:3
DTSTAMP:20260425T181403Z
URL:https://business.grantspasschamber.org/events/details/household-hazardous-waste-drop-off-event-17803
END:VEVENT

END:VCALENDAR
