BEGIN:VCALENDAR
VERSION:2.0
PRODID:-//ChamberMaster//Event Calendar 2.0//EN
METHOD:PUBLISH
X-PUBLISHED-TTL:P3D
REFRESH-INTERVAL:P3D
CALSCALE:GREGORIAN
BEGIN:VEVENT
DTSTART;VALUE=DATE:20221028
DTEND;VALUE=DATE:20221101
TRANSP:TRANSPARENT
X-MICROSOFT-CDO-ALLDAYEVENT:TRUE
SUMMARY:Howl-O-Ween-Wildlife Images
DESCRIPTION:If you're ready for some ghastly good fun\, come join us for two full weekends of celebrating all things spooky\, creepy\, and ghostly!\n\nThis year\, we have five days of family fun! Join us for hourly Keeper Talks on subjects like Vampires & Bats\, Slithering Friends\, Werewolves\, and MORE!\n\nWe are bringing back our fan-favorite HOWL-O-WEEN themed carnival for all to enjoy. Don't forget to dress in costume and bring your treat bags for your howlin' good time at Wildlife Images. You won't want to miss this one-of-a-kind event for the whole family.\n\n \n\nWhen: Oct. 22-23 and 29-31\n\nAll ages welcome!\n\nTicket details to come!
X-ALT-DESC;FMTTYPE=text/html:<p style="box-sizing: border-box\; margin: 0px 0px 1.3em\; padding: 0px 0px 10px\; overflow-wrap: break-word\; color: rgb(128\, 130\, 133)\; font-family: GillSansMTPro-Bold\, sans-serif\; font-size: 16px\; line-height: inherit\; background-color: rgb(255\, 255\, 255)\;"><span style="font-size:20px\;">If you&rsquo\;re ready for some ghastly good fun\, come join us for two full weekends of celebrating all things spooky\, creepy\, and ghostly!</span></p>\n\n<p style="box-sizing: border-box\; margin: 0px 0px 1.3em\; padding: 0px 0px 10px\; overflow-wrap: break-word\; color: rgb(128\, 130\, 133)\; font-family: GillSansMTPro-Bold\, sans-serif\; font-size: 16px\; line-height: inherit\; background-color: rgb(255\, 255\, 255)\;"><span style="font-size:20px\;">This year\, we have five days of family fun! Join us for hourly Keeper Talks on subjects like Vampires &amp\; Bats\, Slithering Friends\, Werewolves\, and MORE!</span></p>\n\n<p style="box-sizing: border-box\; margin: 0px 0px 1.3em\; padding: 0px 0px 10px\; overflow-wrap: break-word\; color: rgb(128\, 130\, 133)\; font-family: GillSansMTPro-Bold\, sans-serif\; font-size: 16px\; line-height: inherit\; background-color: rgb(255\, 255\, 255)\;"><span style="font-size:20px\;">We are bringing back our fan-favorite HOWL-O-WEEN themed carnival for all to enjoy. Don&rsquo\;t forget to dress in costume and bring your treat bags for your howlin&rsquo\; good time at Wildlife Images. You won&rsquo\;t want to miss this one-of-a-kind event for the whole family.</span></p>\n\n<p style="box-sizing: border-box\; margin: 0px 0px 1.3em\; padding: 0px 0px 10px\; overflow-wrap: break-word\; color: rgb(128\, 130\, 133)\; font-family: GillSansMTPro-Bold\, sans-serif\; font-size: 16px\; line-height: inherit\; background-color: rgb(255\, 255\, 255)\;">&nbsp\;</p>\n\n<p style="box-sizing: border-box\; margin: 0px 0px 1.3em\; padding: 0px 0px 10px\; overflow-wrap: break-word\; color: rgb(128\, 130\, 133)\; font-family: GillSansMTPro-Bold\, sans-serif\; font-size: 16px\; line-height: inherit\; background-color: rgb(255\, 255\, 255)\;"><span style="font-size:20px\;">When: Oct. 22-23 and 29-31</span></p>\n\n<p style="box-sizing: border-box\; margin: 0px 0px 1.3em\; padding: 0px 0px 10px\; overflow-wrap: break-word\; color: rgb(128\, 130\, 133)\; font-family: GillSansMTPro-Bold\, sans-serif\; font-size: 16px\; line-height: inherit\; background-color: rgb(255\, 255\, 255)\;"><span style="font-size:20px\;">All ages welcome!</span></p>\n\n<p style="box-sizing: border-box\; margin: 0px 0px 1.3em\; padding: 0px 0px 10px\; overflow-wrap: break-word\; color: rgb(128\, 130\, 133)\; font-family: GillSansMTPro-Bold\, sans-serif\; font-size: 16px\; line-height: inherit\; background-color: rgb(255\, 255\, 255)\;"><span style="font-size:20px\;">Ticket details to come!</span></p>\n
LOCATION:Wildlife Images 11845 Lower River Road Grants Pass\, OR
UID:e.1818.40814
SEQUENCE:3
DTSTAMP:20260425T210806Z
URL:https://business.grantspasschamber.org/events/details/howl-o-ween-wildlife-images-10-28-2022-40814
END:VEVENT

END:VCALENDAR
