BEGIN:VCALENDAR
VERSION:2.0
PRODID:-//ChamberMaster//Event Calendar 2.0//EN
METHOD:PUBLISH
X-PUBLISHED-TTL:P3D
REFRESH-INTERVAL:P3D
CALSCALE:GREGORIAN
BEGIN:VEVENT
DTSTART;VALUE=DATE:20160917
DTEND;VALUE=DATE:20160918
TRANSP:TRANSPARENT
X-MICROSOFT-CDO-ALLDAYEVENT:TRUE
SUMMARY:Hugh Parking Lot Sale Fundraiser For Zonta
DESCRIPTION:Hugh Parking Lot Sale on the corner of 7th & L Street at Logan Design\n\n\n\nFurniture ~ Household Items ~ Tools ~ Clothing ~ Jewelry ~ Books ~ Toys\n\n\n\nProceeds Benefiting Zonta
X-ALT-DESC;FMTTYPE=text/html:<strong><em><u>Hugh Parking Lot Sale on the corner of 7th &amp\; L Street at Logan Design</u></em><br />\n<br />\nFurniture ~ Household Items ~ Tools ~ Clothing ~ Jewelry ~ Books ~ Toys<br />\n<br />\n<u>Proceeds Benefiting Zonta</u></strong>
LOCATION:Logan Design 7th & L Street
UID:e.1818.17817
SEQUENCE:3
DTSTAMP:20260425T181855Z
URL:https://business.grantspasschamber.org/events/details/hugh-parking-lot-sale-fundraiser-for-zonta-17817
END:VEVENT

END:VCALENDAR
