BEGIN:VCALENDAR
VERSION:2.0
PRODID:-//ChamberMaster//Event Calendar 2.0//EN
METHOD:PUBLISH
X-PUBLISHED-TTL:P3D
REFRESH-INTERVAL:P3D
CALSCALE:GREGORIAN
BEGIN:VEVENT
DTSTART:20250412T160000Z
DTEND:20250412T210000Z
X-MICROSOFT-CDO-ALLDAYEVENT:FALSE
SUMMARY:Hugo Ladies Spring Sale
DESCRIPTION:Mark your calendars for April 12th from 9:00AM-2:00PM!!! Hugo Ladies Club - Schoolhouse Quilters is having a big sale of fabric\, accessories and other great items.\n\n\n\nFind us at 6050 Hugo Road - I-5 Exit 66 - Monument Drive\, turn on Three Pines to Hugo Road - to the red schoolhouse building!
X-ALT-DESC;FMTTYPE=text/html:<span style="font-size:20px\;">Mark your calendars for April 12th from 9:00AM-2:00PM!!! Hugo Ladies Club - Schoolhouse Quilters is having a big sale of fabric\, accessories and other great items.<br />\n<br />\nFind us at 6050 Hugo Road - I-5 Exit 66 - Monument Drive\, turn on Three Pines to Hugo Road - to the red schoolhouse building!</span>
LOCATION:Hugo Ladies Club 6050 Hugo Rd I-5 North\, Exit 66\, Left on Monument\, Right on Three Pines Rd\, Right on Hugo Rd.
UID:e.1818.54387
SEQUENCE:3
DTSTAMP:20260419T134212Z
URL:https://business.grantspasschamber.org/events/details/hugo-ladies-spring-sale-54387
END:VEVENT

END:VCALENDAR
