BEGIN:VCALENDAR
VERSION:2.0
PRODID:-//ChamberMaster//Event Calendar 2.0//EN
METHOD:PUBLISH
X-PUBLISHED-TTL:P3D
REFRESH-INTERVAL:P3D
CALSCALE:GREGORIAN
BEGIN:VEVENT
DTSTART;VALUE=DATE:20160621
DTEND;VALUE=DATE:20160626
TRANSP:TRANSPARENT
X-MICROSOFT-CDO-ALLDAYEVENT:TRUE
SUMMARY:IHMSA West Coast Championship
DESCRIPTION:Long range handgun competition with shooters from across the US & Australia. Hearing protection highly recommended. Valentino's Food Truck will be serving lunches.
X-ALT-DESC;FMTTYPE=text/html:<strong>Long range handgun competition with shooters from across the US &amp\; Australia. Hearing protection highly recommended. Valentino&#39\;s Food Truck will be serving lunches.</strong>
LOCATION:7407 Highland Avenue - Josephine County Sportsman Association
UID:e.1818.17515
SEQUENCE:3
DTSTAMP:20260425T223844Z
URL:https://business.grantspasschamber.org/events/details/ihmsa-west-coast-championship-06-21-2016-17515
END:VEVENT

END:VCALENDAR
