BEGIN:VCALENDAR
VERSION:2.0
PRODID:-//ChamberMaster//Event Calendar 2.0//EN
METHOD:PUBLISH
X-PUBLISHED-TTL:P3D
REFRESH-INTERVAL:P3D
CALSCALE:GREGORIAN
BEGIN:VEVENT
DTSTART;VALUE=DATE:20180129
DTEND;VALUE=DATE:20180130
TRANSP:TRANSPARENT
X-MICROSOFT-CDO-ALLDAYEVENT:TRUE
SUMMARY:Illinois Valley Fine Artists
DESCRIPTION:Artists work in all media\, with Gene Drake available for lessons.
X-ALT-DESC;FMTTYPE=text/html:Artists work in all media\, with Gene Drake available for lessons.
LOCATION:Rogue Comm College Belt Building 24353 Redwood Hwy Kerby OR
UID:e.1818.25007
SEQUENCE:3
DTSTAMP:20260424T114113Z
URL:https://business.grantspasschamber.org/events/details/illinois-valley-fine-artists-01-29-2018-25007
END:VEVENT

END:VCALENDAR
