BEGIN:VCALENDAR
VERSION:2.0
PRODID:-//ChamberMaster//Event Calendar 2.0//EN
METHOD:PUBLISH
X-PUBLISHED-TTL:P3D
REFRESH-INTERVAL:P3D
CALSCALE:GREGORIAN
BEGIN:VEVENT
DTSTART:20160929T190000Z
DTEND:20160929T203000Z
X-MICROSOFT-CDO-ALLDAYEVENT:FALSE
SUMMARY:Illinois Valley Grief Support Group
DESCRIPTION:Lovejoy Hospice will be holding a non-therapy support group for adults surviving the death of a loved one\, the last Thursday of each month\, beginning on May 26th.\n\n\n\nLearn to normalize your loss and build meaning with others in a healthy group process. An orientation appointment with the group facilitator is required prior to attending\; no walk-ins. Appointments can be arranged in Grants Pass as well as Cave Junction. Those interested call 541-474-1193.
X-ALT-DESC;FMTTYPE=text/html:<strong>Lovejoy Hospice will be holding a non-therapy support group for adults surviving the death of a loved one\, the last Thursday of each month\, beginning on May 26th.</strong><br />\n<br />\nLearn to normalize your loss and build meaning with others in a healthy group process. An orientation appointment with the group facilitator is required prior to attending\; no walk-ins. Appointments can be arranged in Grants Pass as well as Cave Junction. Those interested call 541-474-1193.
LOCATION:Ilinois Valley Family Coalition\, 535 E River St\, Cave Junction\, OR 97523
UID:e.1818.17484
SEQUENCE:3
DTSTAMP:20260425T181237Z
URL:https://business.grantspasschamber.org/events/details/illinois-valley-grief-support-group-09-29-2016-17484
END:VEVENT

END:VCALENDAR
