BEGIN:VCALENDAR
VERSION:2.0
PRODID:-//ChamberMaster//Event Calendar 2.0//EN
METHOD:PUBLISH
X-PUBLISHED-TTL:P3D
REFRESH-INTERVAL:P3D
CALSCALE:GREGORIAN
BEGIN:VEVENT
DTSTART:20160410T000000Z
DTEND:20160410T030000Z
X-MICROSOFT-CDO-ALLDAYEVENT:FALSE
SUMMARY:Illinois Valley Soup for the Souls Event \, The Original 10th Annual
DESCRIPTION:Join the Illinois Valley Safe House Alliance at our 10th annual Soup for the Souls event.\n\n\n\nThere will be unlimited soup and bread that includes a handcrafted or vintage bowl for our guests to take home. There will also be a cake walk\, silent auction\, raffle\, door prizes\, and entertainment. April is Sexual Assault awareness month and all proceeds from our event go towards survivors of sexual violence. Doors open at 5:00 and No early entry.
X-ALT-DESC;FMTTYPE=text/html:<strong>Join the Illinois Valley Safe House Alliance at our 10th annual Soup for the Souls event.<br />\n<br />\nThere will be unlimited soup and bread that includes a handcrafted or vintage bowl for our guests to take home. There will also be a cake walk\, silent auction\, raffle\, door prizes\, and entertainment. April is Sexual Assault awareness month and all proceeds from our event go towards survivors of sexual violence. Doors open at 5:00 and No early entry.</strong>
LOCATION:The Illinois Valley High School 625 East River Street cave Junction\, OR 97523
UID:e.1818.16882
SEQUENCE:3
DTSTAMP:20260426T013817Z
URL:https://business.grantspasschamber.org/events/details/illinois-valley-soup-for-the-souls-event-the-original-10th-annual-04-09-2016-16882
END:VEVENT

END:VCALENDAR
