BEGIN:VCALENDAR
VERSION:2.0
PRODID:-//ChamberMaster//Event Calendar 2.0//EN
METHOD:PUBLISH
X-PUBLISHED-TTL:P3D
REFRESH-INTERVAL:P3D
CALSCALE:GREGORIAN
BEGIN:VEVENT
DTSTART:20160430T180000Z
DTEND:20160430T210000Z
X-MICROSOFT-CDO-ALLDAYEVENT:FALSE
SUMMARY:Independent Bookstore Day
DESCRIPTION:A day to celebrate the independent bookstores that continue to improve communities around the nation\, and our day to celebrate YOU\, our wonderful customers.\n\n\n\nIn the same strain as last year\, we will be inviting dozens of local authors to sign books and meet with their fans\, raffling off TONS of prizes\, barbecuing\, and having a lot of FUN!
X-ALT-DESC;FMTTYPE=text/html:<strong>A day to celebrate the independent bookstores that continue to improve communities around the nation\, and our day to celebrate YOU\, our wonderful customers.<br />\n<br />\nIn the same strain as last year\, we will be inviting dozens of local authors to sign books and meet with their fans\, raffling off TONS of prizes\, barbecuing\, and having a lot of FUN!</strong>
LOCATION:Oregon Books & Games 150 NE E St Grants Pass\, OR 97526
UID:e.1818.17287
SEQUENCE:3
DTSTAMP:20260426T013411Z
URL:https://business.grantspasschamber.org/events/details/independent-bookstore-day-04-30-2016-17287
END:VEVENT

END:VCALENDAR
