BEGIN:VCALENDAR
VERSION:2.0
PRODID:-//ChamberMaster//Event Calendar 2.0//EN
METHOD:PUBLISH
X-PUBLISHED-TTL:P3D
REFRESH-INTERVAL:P3D
CALSCALE:GREGORIAN
BEGIN:VEVENT
DTSTART:20180505T170000Z
DTEND:20180506T010000Z
X-MICROSOFT-CDO-ALLDAYEVENT:FALSE
SUMMARY:Industrial\, Vehicles & Equipment Auction
DESCRIPTION:Come and Join Us May 5th as we auction off Utility Bucket-Boom Trucks Outfitted For Cable Installation\, Trucks\, Telsta Boom Parts\, Parts Trucks\, Misc Parts\, Trailers Forklifts\, Excavator\, Ditch Witch W/ Rock Saw\, Lumber\, Shop Equipment\, Tools\, Ammo Cans\, Road Construction Signage\, and much More!\n\n\n\nYou can preview items from 1-4 on May 3rd and May 4th! Come on out!\n\n \n\n\n\nFor more information and photos click on our website link or go to:\n\nwww.RogueAuctioneers.com\n\n\n\nFor Online Bidding on the larger Equipment and Vehicles click on this link ---  https://www.proxibid.com/asp/Catalog.asp?aid=143746\n\n\n\n#541-450-2937
X-ALT-DESC;FMTTYPE=text/html:<span style="font-size:22px"><strong>Come and Join Us May 5th as we auction off</strong></span><strong><span style="font-size:24.0pt"><span style="font-size:22px"> </span></span></strong><span style="font-size:16.0pt">Utility Bucket-Boom Trucks Outfitted For Cable Installation\,&nbsp\;</span><span style="font-size:16.0pt">Trucks\, Telsta Boom Parts\, Parts Trucks\, Misc Parts\, Trailers Forklifts\, Excavator\, Ditch Witch W/ Rock Saw\, Lumber\, </span><span style="font-size:16.0pt">Shop Equipment\, Tools\, Ammo Cans\, Road Construction Signage\, and much More!</span><br />\n<br />\n<strong><span style="font-size:24.0pt"><span style="font-size:22px">You can preview items from 1-4 on May 3rd and May 4th! Come on out!</span></span></strong><br />\n&nbsp\;<br />\n<br />\n<span style="font-size:16.0pt">For more information and photos click on our website link or go to:<br />\nwww.RogueAuctioneers.com<br />\n<br />\n<span style="font-size:14px">For Online Bidding on the larger Equipment and Vehicles click on this link ---&gt\; </span></span>https://www.proxibid.com/asp/Catalog.asp?aid=143746<br />\n<br />\n<span style="font-size:16.0pt">#541-450-2937</span><br />\n&nbsp\;
LOCATION:8380 Agate Road\, White City\, OR 97504
UID:e.1818.28798
SEQUENCE:3
DTSTAMP:20260424T025846Z
URL:https://business.grantspasschamber.org/events/details/industrial-vehicle-equipment-auction-28798
END:VEVENT

END:VCALENDAR
