BEGIN:VCALENDAR
VERSION:2.0
PRODID:-//ChamberMaster//Event Calendar 2.0//EN
METHOD:PUBLISH
X-PUBLISHED-TTL:P3D
REFRESH-INTERVAL:P3D
CALSCALE:GREGORIAN
BEGIN:VEVENT
DTSTART:20191012T170000Z
DTEND:20191012T210000Z
X-MICROSOFT-CDO-ALLDAYEVENT:FALSE
SUMMARY:INVENT 2019!
DESCRIPTION:INVENT 2019\, the second annual event organized by RCC Continuing Education\, SBDC\, the City of GP\, Pacific Power and Dutch Bros\, designed to produce awareness of the coming Rogue Innovation Hub.\n\n\n\nThis year's event will take place on Saturday\, October 12 from 10:00 am   2:00 pm in the Esther Bristol Education Center and parking lot\, as well as the Dutch Bros headquarters parking lot.\n\n\n\nThe event will feature booths with STEM related activities and tours of the future Rogue Innovation Hub.
X-ALT-DESC;FMTTYPE=text/html:<br />\n<span style="font-size:16px\;"><span style="color:#1F497D\;">INVENT 2019\, the second annual event organized by RCC Continuing Education\, SBDC\, the City of GP\, Pacific Power and Dutch Bros\, designed to produce awareness of the coming Rogue Innovation Hub.<br />\n<br />\nThis year&rsquo\;s event will take place on Saturday\, October 12 from 10:00 am &ndash\; 2:00 pm in the Esther Bristol Education Center and parking lot\, as well as the Dutch Bros headquarters parking lot.<br />\n<br />\nThe event will feature booths with STEM related activities and tours of the future Rogue Innovation Hub.</span></span>
LOCATION:Esther Bristol Education Center and parking lot Dutch Bros headquarters parking lot **4th G Street**
UID:e.1818.31979
SEQUENCE:3
DTSTAMP:20260423T190730Z
URL:https://business.grantspasschamber.org/events/details/invent-2019-31979
END:VEVENT

END:VCALENDAR
