BEGIN:VCALENDAR
VERSION:2.0
PRODID:-//ChamberMaster//Event Calendar 2.0//EN
METHOD:PUBLISH
X-PUBLISHED-TTL:P3D
REFRESH-INTERVAL:P3D
CALSCALE:GREGORIAN
BEGIN:VEVENT
DTSTART:20160611T170000Z
DTEND:20160611T210000Z
X-MICROSOFT-CDO-ALLDAYEVENT:FALSE
SUMMARY:Jo Co Relay Car Wash
DESCRIPTION:Let the Insurance Lounge Josephine County Relay for Life team wash your car to a sparkle on Saturday\, June 11\, 2016. They will hold their fundraiser at the downtown Umpqua Bank\, 117 NE F Street (entrances on 6th and F Streets)\, Grants Pass starting at 10:00 a.m. and ending about 2:00 p.m.\n\n\n\nThere is a recommended donation of $10 per car and all donations will be applied to the team's relay goals. For more information contact Lacey Green or Shantal Young at 541-479-4975\, or lacey.green@insurancelounge.com.
X-ALT-DESC;FMTTYPE=text/html:<strong>Let the Insurance Lounge Josephine County Relay for Life team wash your car to a sparkle on Saturday\, June 11\, 2016. They will hold their fundraiser at the downtown Umpqua Bank\, 117 NE F Street (entrances on 6th and F Streets)\, Grants Pass starting at 10:00 a.m. and ending about 2:00 p.m.<br />\n<br />\nThere is a recommended donation of $10 per car and all donations will be applied to the team&rsquo\;s relay goals. For more information contact Lacey Green or Shantal Young at 541-479-4975\, or lacey.green@insurancelounge.com.</strong>
LOCATION:Umpqua Bank\, 117 NE F Street (entrances on 6th and F Streets)\, Grants Pass
UID:e.1818.17523
SEQUENCE:3
DTSTAMP:20260425T224019Z
URL:https://business.grantspasschamber.org/events/details/jo-co-relay-car-wash-06-11-2016-17523
END:VEVENT

END:VCALENDAR
