BEGIN:VCALENDAR
VERSION:2.0
PRODID:-//ChamberMaster//Event Calendar 2.0//EN
METHOD:PUBLISH
X-PUBLISHED-TTL:P3D
REFRESH-INTERVAL:P3D
CALSCALE:GREGORIAN
BEGIN:VEVENT
DTSTART:20160922T220000Z
DTEND:20160923T020000Z
X-MICROSOFT-CDO-ALLDAYEVENT:FALSE
SUMMARY:Job Fair ~ Caregivers for all open positions
DESCRIPTION:Pacific Living Centers is seeking caregivers for all open positions\, full time & on call\, in our Memory Care Communities in the Grants Pass area.\n\n\n\nOn the spot screening interviews available.  Please bring copies of your references/resume.\n\n\n\nHealth benefits\, time off benefits\, vacation\, sick time\, paid holidays
X-ALT-DESC;FMTTYPE=text/html:<strong>Pacific Living Centers is seeking caregivers for all open positions\, full time &amp\; on call\, in our Memory Care Communities in the Grants Pass area.<br />\n<br />\nOn the spot screening interviews available.&nbsp\; Please bring copies of your references/resume.<br />\n<br />\nHealth benefits\, time off benefits\, vacation\, sick time\, paid holidays</strong>
LOCATION:Pacific Living Centers 141 NW C Street Grants Pass
UID:e.1818.17826
SEQUENCE:3
DTSTAMP:20260425T181707Z
URL:https://business.grantspasschamber.org/events/details/job-fair-caregivers-for-all-open-positions-17826
END:VEVENT

END:VCALENDAR
