BEGIN:VCALENDAR
VERSION:2.0
PRODID:-//ChamberMaster//Event Calendar 2.0//EN
METHOD:PUBLISH
X-PUBLISHED-TTL:P3D
REFRESH-INTERVAL:P3D
CALSCALE:GREGORIAN
BEGIN:VEVENT
DTSTART:20180606T170000Z
DTEND:20180606T210000Z
X-MICROSOFT-CDO-ALLDAYEVENT:FALSE
SUMMARY:JOB FAIR ~ Public Invited
DESCRIPTION:This job fair is open to applicants of all ages and experience levels. If you are looking for full-time or part-time work in the Grants Pass area\, please dress professionally\, bring a resume and be prepared for an on-site interview. \n\n\n\nParticipating employers include: \n\n- Fort Vannoy Farm\,\n\n- Grange Co-Op\,\n\n- Grayback Forestry\, \n\n- Lil' Pantry Market & Deli\, \n\n- Performant\,\n\n- Southern Oregon Goodwill Industries\,\n\n- WorkSource Rogue Valley\, and more!\n\n\n\nThe job fair runs from 10 a.m. to 2 p.m. at the Goodwill Job Connection in Grants Pass at 735 SW 5th Street.\n\n\n\n\n\nExhibitors at the Goodwill Job Fair can meet with local job seekers to share employment opportunities at their  business.
X-ALT-DESC;FMTTYPE=text/html:<strong><span style="background:white\;"><span style="color:#1D2129\;"><span style="font-family:helvetica\,sans-serif\;"><span style="font-size:10.5pt\;">This job fair is open to applicants of all ages and experience levels. If you are looking for full-time or part-time work in the Grants Pass area\, please dress professionally\, bring a resume and be prepared for an on-site interview.&nbsp\;</span></span></span></span></strong><br />\n<br />\n<span style="color:#1D2129\;"><span style="font-family:helvetica\,sans-serif\;"><span style="font-size:10.5pt\;"><strong><span style="background:white\;"><u>Participating employers include</u>:&nbsp\;</span><br />\n<span style="background:white\;">- Fort Vannoy Farm\,</span><br />\n<span style="background:white\;">- Grange Co-Op\,</span><br />\n<span style="background:white\;">- Grayback Forestry\,&nbsp\;</span><br />\n<span style="background:white\;">- Lil&#39\; Pantry Market &amp\; Deli\,&nbsp\;</span><br />\n<span style="background:white\;">- Performant\,</span><br />\n<span style="background:white\;">- Southern Oregon Goodwill Industries\,</span><br />\n<span style="background:white\;">- WorkSource Rogue Valley\, and more!</span></strong><br />\n<br />\n<strong><span style="background:white\;">The job fair runs from 10 a.m. to 2 p.m. at the Goodwill Job Connection in Grants Pass at 735 SW 5th Street.</span></strong></span></span></span><br />\n<br />\n<br />\nExhibitors at the Goodwill Job Fair can meet with local job seekers to share employment opportunities at their&nbsp\; business.<br />\n<br />\n&nbsp\;
LOCATION:Goodwill As Is Store/ Job Connection 735 SW 5th Street Grants Pass\, OR 97526
UID:e.1818.29033
SEQUENCE:3
DTSTAMP:20260424T012348Z
URL:https://business.grantspasschamber.org/events/details/job-fair-public-invited-29033
END:VEVENT

END:VCALENDAR
