BEGIN:VCALENDAR
VERSION:2.0
PRODID:-//ChamberMaster//Event Calendar 2.0//EN
METHOD:PUBLISH
X-PUBLISHED-TTL:P3D
REFRESH-INTERVAL:P3D
CALSCALE:GREGORIAN
BEGIN:VEVENT
DTSTART:20250510T210000Z
DTEND:20250510T223000Z
X-MICROSOFT-CDO-ALLDAYEVENT:FALSE
SUMMARY:JOCO Citizens for Responsible Government Monthly Meeting
DESCRIPTION:This is an invitation to Josephine County residents who are interested in learning more about JOCO CRG. We are a nonpartisan organization that focuses on GOOD GOVERNANCE. We look forward to meeting you and sharing your thoughts and ideas for improving governance in Josephine County.
X-ALT-DESC;FMTTYPE=text/html:<span style="font-size:20px\;">This is an invitation to Josephine County residents who are interested in learning more about JOCO CRG. We are a nonpartisan organization that focuses on GOOD GOVERNANCE. We look forward to meeting you and sharing your thoughts and ideas for improving governance in Josephine County.&nbsp\;</span>
LOCATION:Fruitdale Grange 1440 Parkdale Dr\, Grants Pass\, OR 97527
UID:e.1818.54696
SEQUENCE:3
DTSTAMP:20260419T115310Z
URL:https://business.grantspasschamber.org/events/details/joco-citizens-for-responsible-government-monthly-meeting-54696
END:VEVENT

END:VCALENDAR
