BEGIN:VCALENDAR
VERSION:2.0
PRODID:-//ChamberMaster//Event Calendar 2.0//EN
METHOD:PUBLISH
X-PUBLISHED-TTL:P3D
REFRESH-INTERVAL:P3D
CALSCALE:GREGORIAN
BEGIN:VEVENT
DTSTART;VALUE=DATE:20160204
DTEND;VALUE=DATE:20160207
TRANSP:TRANSPARENT
X-MICROSOFT-CDO-ALLDAYEVENT:TRUE
SUMMARY:JoCo County Youth Tree Plant Event ~ 27th Annual
DESCRIPTION:The ReTree Plant Event is held every February\, since 1990.  The three day event includes local school children from grades three to five\, on Thursday and Friday. And on Saturday local Boy Scouts and volunteers complete up to 5\,000 trees each year.\n\n\n\nCoordinated by Ross Roe\, from Roe Motors and partnering with the Josephine County Forestry Department.  Forestry provides the seedlings and digs the planting holes for Ponderosa pine and Douglas firs.\n\n\n\nBefore planting\, the students receive a 45-minute orientation presented by professional foresters. The students over three days plant over 1\,000 plants\, each child plants five seedlings.  Of those five\, one is tagged with a students name and the year he or she planted it.  Many students return year after year to check on yearly growth.\n\n\n\nAlumni "Tree Planters in 27 years is over 20\,400 and they have planted over 80\,000 trees.\n\n\n\nPlease consider joining\, learning and being part of this program for future years.
X-ALT-DESC;FMTTYPE=text/html:<strong><u><em>The ReTree Plant Event</em></u> is held every <u>February</u>\, since 1990.&nbsp\; The three day event includes local school children from grades three to five\, on Thursday and Friday. And on Saturday local Boy Scouts and volunteers complete up to 5\,000 trees each year.</strong><br />\n<br />\n<strong>Coordinated by Ross Roe\, from Roe Motors and partnering with the Josephine County Forestry Department.&nbsp\; Forestry provides the seedlings and digs the planting holes for Ponderosa pine and Douglas firs.</strong><br />\n<br />\n<strong>Before planting\, the students receive a 45-minute orientation presented by professional foresters. The students over three days plant over 1\,000 plants\, each child plants five seedlings.&nbsp\; Of those five\, one is tagged with a students name and the year he or she planted it.&nbsp\; Many students return year after year to check on yearly growth.<br />\n<br />\n<em>Alumni &quot\;Tree Planters in 27 years is over 20\,400 and they have planted over 80\,000 trees.<br />\n<br />\n<u>Please consider joining\, learning and being part of this program for future years.</u></em></strong><br />\n&nbsp\;
LOCATION:Local Schools have organized Bus Transportation for Thursday & Friday. Saturday is Boy Scouts and Volunteers with bus program
UID:e.1818.15747
SEQUENCE:3
DTSTAMP:20260426T044025Z
URL:https://business.grantspasschamber.org/events/details/joco-county-youth-tree-plant-event-27th-annual-02-04-2016-15747
END:VEVENT

END:VCALENDAR
