BEGIN:VCALENDAR
VERSION:2.0
PRODID:-//ChamberMaster//Event Calendar 2.0//EN
METHOD:PUBLISH
X-PUBLISHED-TTL:P3D
REFRESH-INTERVAL:P3D
CALSCALE:GREGORIAN
BEGIN:VEVENT
DTSTART;VALUE=DATE:20160817
DTEND;VALUE=DATE:20160820
TRANSP:TRANSPARENT
X-MICROSOFT-CDO-ALLDAYEVENT:TRUE
SUMMARY:JoCo Fair ~ Bingo During the Fair
DESCRIPTION:BINGO DURING THE FAIR ! ! ! \n\nWednesday\, Thursday\, Friday\n\n2:00pm to 7:00pm\n\n\n\n.50 Cents A Game\n\nSponsored by the Friends of the Josephine County Fairgrounds
X-ALT-DESC;FMTTYPE=text/html:<strong><span style="color:#FF0000\;"><span style="font-size: 18px\;">BINGO DURING THE FAIR ! ! ! </span></span><br />\nWednesday\, Thursday\, Friday<br />\n2:00pm to 7:00pm<br />\n<br />\n<span style="color:#FF0000\;">.50 Cents A Game<br />\nSponsored by the Friends of the Josephine County Fairgrounds</span></strong>
LOCATION:Josephine County Fairgrounds 1452 Fairgrounds Rd. Grants Pass
UID:e.1818.17742
SEQUENCE:3
DTSTAMP:20260425T192157Z
URL:https://business.grantspasschamber.org/events/details/joco-fair-bingo-during-the-fair-17742
END:VEVENT

END:VCALENDAR
