BEGIN:VCALENDAR
VERSION:2.0
PRODID:-//ChamberMaster//Event Calendar 2.0//EN
METHOD:PUBLISH
X-PUBLISHED-TTL:P3D
REFRESH-INTERVAL:P3D
CALSCALE:GREGORIAN
BEGIN:VEVENT
DTSTART:20160818T013000Z
DTEND:20160818T040000Z
X-MICROSOFT-CDO-ALLDAYEVENT:FALSE
SUMMARY:JoCo Fair Grandstands Events ~ MCCASLIN RODEO
DESCRIPTION:McCaslin Rodeo is a local growing and owned business since 2013\n\n\n\nBareback\, Bulls\, Barrels\, Show Riders
X-ALT-DESC;FMTTYPE=text/html:<strong>McCaslin Rodeo is a local growing and owned business since 2013<br />\n<br />\n<span style="font-size:18px\;">Bareback\, Bulls\, Barrels\, Show Riders</span></strong>
LOCATION:Josephine County Fairgrounds 1451 Fairgrounds Rd Grandstands
UID:e.1818.17732
SEQUENCE:3
DTSTAMP:20260425T192514Z
URL:https://business.grantspasschamber.org/events/details/joco-fair-grandstands-events-mccaslin-rodeo-08-17-2016-17732
END:VEVENT

END:VCALENDAR
