BEGIN:VCALENDAR
VERSION:2.0
PRODID:-//ChamberMaster//Event Calendar 2.0//EN
METHOD:PUBLISH
X-PUBLISHED-TTL:P3D
REFRESH-INTERVAL:P3D
CALSCALE:GREGORIAN
BEGIN:VEVENT
DTSTART:20160820T013000Z
DTEND:20160821T040000Z
X-MICROSOFT-CDO-ALLDAYEVENT:FALSE
SUMMARY:JoCo Fair Grandstands Events ~ WGAS MOTOR SPORTS
DESCRIPTION:FMX Riders from Metal Mulisha Freestyle Motocross\n\n~ Monster Trucks  ~ Monster Truck Rides \n\n~ Tuff Truck Racing ~ \n\n             \n\n\n\nAfter his humble beginnings growing up on a dairy farm in central California\, John Borba took his passion for tractor pulling to little fields and county fair arenas around California in the early seventies.\n\n\n\nIt was a natural progression   and one encouraged by those around him - to begin promoting pulling events\, and his company produced its first major tractor pull in Salinas\, California\, featuring for the first time pullers from out of state.\n\n\n\nOver the next 20 years\, John and company produced large-scale truck and tractor pull tours\, producing shows that families can enjoy today.
X-ALT-DESC;FMTTYPE=text/html:<span style="font-size:28px\;"><strong><span style="font-family: garamond\,serif\;">FMX Riders from Metal Mulisha Freestyle Motocross</span></strong></span><br />\n<span style="font-family:garamond\,serif\;"><span style="font-size:16.0pt\;"><strong>~ Monster Trucks&nbsp\; ~ Monster Truck Rides </strong><br />\n~ <strong>Tuff Truck Racing ~ </strong></span></span><br />\n<span style="font-family:garamond\,serif\;"><span style="font-size:16.0pt\;">&nbsp\;&nbsp\;&nbsp\;&nbsp\;&nbsp\;&nbsp\;&nbsp\;&nbsp\;&nbsp\;&nbsp\;&nbsp\;&nbsp\; </span></span><br />\n<br />\n<strong><span style="font-family:garamond\,serif\;"><span style="font-size:12.0pt\;">After his humble beginnings growing up on a dairy farm in central California\, John Borba took his passion for tractor pulling to little fields and county fair arenas around California in the early seventies.<br />\n<br />\nIt was a natural progression &ndash\; and one encouraged by those around him - to begin promoting pulling events\, and his company produced its first major tractor pull in Salinas\, California\, featuring for the first time pullers from out of state.<br />\n<br />\nOver the next 20 years\, John and company produced large-scale truck and tractor pull tours\, producing shows that families can enjoy today.</span></span></strong><br />\n&nbsp\;<br />\n<br />\n&nbsp\;
LOCATION:Josephine County Fairgrounds 1451 Fairgrounds Rd Grandstands
UID:e.1818.17733
SEQUENCE:3
DTSTAMP:20260425T192822Z
URL:https://business.grantspasschamber.org/events/details/joco-fair-grandstands-events-wgas-motor-sports-08-19-2016-17733
END:VEVENT

END:VCALENDAR
